BEGIN:VCALENDAR
VERSION:2.0
PRODID:-//RunX - ECPv6.15.18//NONSGML v1.0//EN
CALSCALE:GREGORIAN
METHOD:PUBLISH
X-WR-CALNAME:RunX
X-ORIGINAL-URL:https://runx.nl
X-WR-CALDESC:Evenementen voor RunX
REFRESH-INTERVAL;VALUE=DURATION:PT1H
X-Robots-Tag:noindex
X-PUBLISHED-TTL:PT1H
BEGIN:VTIMEZONE
TZID:Europe/Amsterdam
BEGIN:DAYLIGHT
TZOFFSETFROM:+0100
TZOFFSETTO:+0200
TZNAME:CEST
DTSTART:20220327T010000
END:DAYLIGHT
BEGIN:STANDARD
TZOFFSETFROM:+0200
TZOFFSETTO:+0100
TZNAME:CET
DTSTART:20221030T010000
END:STANDARD
BEGIN:DAYLIGHT
TZOFFSETFROM:+0100
TZOFFSETTO:+0200
TZNAME:CEST
DTSTART:20230326T010000
END:DAYLIGHT
BEGIN:STANDARD
TZOFFSETFROM:+0200
TZOFFSETTO:+0100
TZNAME:CET
DTSTART:20231029T010000
END:STANDARD
BEGIN:DAYLIGHT
TZOFFSETFROM:+0100
TZOFFSETTO:+0200
TZNAME:CEST
DTSTART:20240331T010000
END:DAYLIGHT
BEGIN:STANDARD
TZOFFSETFROM:+0200
TZOFFSETTO:+0100
TZNAME:CET
DTSTART:20241027T010000
END:STANDARD
END:VTIMEZONE
BEGIN:VEVENT
DTSTART;TZID=Europe/Amsterdam:20230527T100000
DTEND;TZID=Europe/Amsterdam:20230527T120000
DTSTAMP:20260420T002259
CREATED:20230515T123550Z
LAST-MODIFIED:20230515T123550Z
UID:23233-1685181600-1685188800@runx.nl
SUMMARY:Saucony Take Courage Tour
DESCRIPTION:Wil je graag je PR op de 5 km verbeteren?\nKom dan langs op zaterdag 27 mei in Westzaan [ locatie Smitco] stap in de snelle Saucony Endorphin schoenen en je loopt geheid een PR.\nschrijf je nu in https://forms.gle/eUarEJgQs9edDfPHA \n📍 Smitco B.V. (Adres: Guispad 5 in Westzaan) \nSaucony organiseert in samenwerking met RunX Zaandam een uniek event waarbij je jouw snelste 5 kilometer kunt lopen. De hardloopexperts van Saucony en RunX zijn aanwezig om je alles te vertellen over de schoenen die het beste bij jou passen om je snelste tijd neer te zetten.\n\nVervolgens kun je de schoenen aantrekken en een poging doen om je persoonlijke record te verbeteren. Saucony neemt maar liefst acht verschillende modellen mee\, waaronder alle schoenen uit de snelle ENDORPHIN-collectie.
URL:https://runx.nl/evenement/saucony-take-courage-tour/
LOCATION:guispad 5 westzaan\, Guispad 5\, Westzaan\, Nederland
CATEGORIES:RunX Zaandam
ATTACH;FMTTYPE=image/jpeg:https://runx.nl/wp-content/uploads/2023/05/take-courage.jpg
END:VEVENT
END:VCALENDAR