BEGIN:VCALENDAR
VERSION:2.0
PRODID:-//RunX - ECPv6.15.18//NONSGML v1.0//EN
CALSCALE:GREGORIAN
METHOD:PUBLISH
X-ORIGINAL-URL:https://runx.nl
X-WR-CALDESC:Evenementen voor RunX
REFRESH-INTERVAL;VALUE=DURATION:PT1H
X-Robots-Tag:noindex
X-PUBLISHED-TTL:PT1H
BEGIN:VTIMEZONE
TZID:Europe/Amsterdam
BEGIN:DAYLIGHT
TZOFFSETFROM:+0100
TZOFFSETTO:+0200
TZNAME:CEST
DTSTART:20220327T010000
END:DAYLIGHT
BEGIN:STANDARD
TZOFFSETFROM:+0200
TZOFFSETTO:+0100
TZNAME:CET
DTSTART:20221030T010000
END:STANDARD
BEGIN:DAYLIGHT
TZOFFSETFROM:+0100
TZOFFSETTO:+0200
TZNAME:CEST
DTSTART:20230326T010000
END:DAYLIGHT
BEGIN:STANDARD
TZOFFSETFROM:+0200
TZOFFSETTO:+0100
TZNAME:CET
DTSTART:20231029T010000
END:STANDARD
BEGIN:DAYLIGHT
TZOFFSETFROM:+0100
TZOFFSETTO:+0200
TZNAME:CEST
DTSTART:20240331T010000
END:DAYLIGHT
BEGIN:STANDARD
TZOFFSETFROM:+0200
TZOFFSETTO:+0100
TZNAME:CET
DTSTART:20241027T010000
END:STANDARD
BEGIN:DAYLIGHT
TZOFFSETFROM:+0100
TZOFFSETTO:+0200
TZNAME:CEST
DTSTART:20250330T010000
END:DAYLIGHT
BEGIN:STANDARD
TZOFFSETFROM:+0200
TZOFFSETTO:+0100
TZNAME:CET
DTSTART:20251026T010000
END:STANDARD
END:VTIMEZONE
BEGIN:VEVENT
DTSTART;TZID=Europe/Amsterdam:20230903T100000
DTEND;TZID=Europe/Amsterdam:20230903T140000
DTSTAMP:20260420T055500
CREATED:20230801T105455Z
LAST-MODIFIED:20230802T093017Z
UID:23821-1693735200-1693749600@runx.nl
SUMMARY:30 van Amsterdam Noord
DESCRIPTION:De ’30 van Amsterdam Noord’ is al jarenlang de ideale voorbereidingswedstrijd voor de marathon van Amsterdam of  andere najaarsmarathon of gewoon als losse wedstrijd. Naast het hoofdnummer de 30 kilometer kan je ook een halve marathon en een 10 kilometer hardlopen. De 10 kilometer is weer een mooie voorbereiding voor de Dam tot Damloop. Het parkoers brengt je al snel in het (Water-)landelijke gebied ten noorden van Amsterdam-Noord. \nInformatie/inschrijven: hier.
URL:https://runx.nl/evenement/30-van-amsterdam-noord/
LOCATION:AV Atos\, Elzenhagenpad 1\, Amsterdam\, Noord-Holland\, 1025WL\, Nederland
CATEGORIES:RunX Haarlem,RunX Zaandam
ATTACH;FMTTYPE=image/jpeg:https://runx.nl/wp-content/uploads/2023/08/30vannoord2022.jpg
END:VEVENT
BEGIN:VEVENT
DTSTART;TZID=Europe/Amsterdam:20240908T110000
DTEND;TZID=Europe/Amsterdam:20240908T140000
DTSTAMP:20260420T055500
CREATED:20240424T091836Z
LAST-MODIFIED:20240424T091856Z
UID:26861-1725793200-1725804000@runx.nl
SUMMARY:30 van Amsterdam-Noord
DESCRIPTION:AV ATOS organiseert jarenlang begin september de 30 van Amsterdam-Noord. Naast 30 kilometer\, kan er ook 21\,1 km en 10 km door landelijk Amsterdam-Noord hardgelopen worden. \n30 km\, start 11.00\, inschrijving € 16 \n21\,1 km\, start 11.30\, inschrijving € 15 \n10 km\, start 11.40\, inschrijving € 11 \ninformatie/inschrijven: HOME | 30-van-noord (30vanamsterdamnoord.nl)
URL:https://runx.nl/evenement/30-van-amsterdam-noord-2/
LOCATION:AV Atos\, Elzenhagenpad 1\, Amsterdam\, Noord-Holland\, 1025WL\, Nederland
CATEGORIES:RunX Haarlem,RunX Zaandam
ATTACH;FMTTYPE=image/jpeg:https://runx.nl/wp-content/uploads/2024/04/30vannoord.jpg
END:VEVENT
END:VCALENDAR